BEGIN:VCALENDAR
VERSION:2.0
PRODID:-//StreetWise Georgia Inc - ECPv6.15.11//NONSGML v1.0//EN
CALSCALE:GREGORIAN
METHOD:PUBLISH
X-ORIGINAL-URL:https://streetwisegeorgia.org
X-WR-CALDESC:Events for StreetWise Georgia Inc
REFRESH-INTERVAL;VALUE=DURATION:PT1H
X-Robots-Tag:noindex
X-PUBLISHED-TTL:PT1H
BEGIN:VTIMEZONE
TZID:America/New_York
BEGIN:DAYLIGHT
TZOFFSETFROM:-0500
TZOFFSETTO:-0400
TZNAME:EDT
DTSTART:20220313T070000
END:DAYLIGHT
BEGIN:STANDARD
TZOFFSETFROM:-0400
TZOFFSETTO:-0500
TZNAME:EST
DTSTART:20221106T060000
END:STANDARD
BEGIN:DAYLIGHT
TZOFFSETFROM:-0500
TZOFFSETTO:-0400
TZNAME:EDT
DTSTART:20230312T070000
END:DAYLIGHT
BEGIN:STANDARD
TZOFFSETFROM:-0400
TZOFFSETTO:-0500
TZNAME:EST
DTSTART:20231105T060000
END:STANDARD
BEGIN:DAYLIGHT
TZOFFSETFROM:-0500
TZOFFSETTO:-0400
TZNAME:EDT
DTSTART:20240310T070000
END:DAYLIGHT
BEGIN:STANDARD
TZOFFSETFROM:-0400
TZOFFSETTO:-0500
TZNAME:EST
DTSTART:20241103T060000
END:STANDARD
END:VTIMEZONE
BEGIN:VEVENT
DTSTART;TZID=America/New_York:20230708T090000
DTEND;TZID=America/New_York:20230708T123000
DTSTAMP:20260422T180145
CREATED:20230501T210853Z
LAST-MODIFIED:20230501T210853Z
UID:34103-1688806800-1688819400@streetwisegeorgia.org
SUMMARY:Mobile Food Pantry 7-8-2023
DESCRIPTION:Volunteer Opportunity! StreetWise Mobile Food Pantry!\nStreetWise Mobile Food Pantry is typically on the second Saturday of each month\, and we pre-pack the food boxes on Friday\, the day before. \nBe a part of the helping hands to those families in need!  StreetWise Georgia & The Atlanta Community Food Bank partner every month to provide pre-registered families with over 100 lbs. of food.  Registered guests never have to get out of their vehicles. Guests drive through our parking lot\, where StreetWise Ambassadors & Volunteers load their cars with boxes of food. \nStreetWise has now partnered with Hands On Atlanta Nonprofit as a volunteer resource.  Registration link for StreetWise Mobile Food Pantry\, click on this link. \n\n\n \nEasy one click Donating financially button and Thank You! for being part of the StreetWise Georgia mission to help struggling families get back on their feet and functioning independently. \n  \n  \n 
URL:https://streetwisegeorgia.org/event/mobile-food-pantry-7-8-2023/
CATEGORIES:Mobile Food Pantry
END:VEVENT
END:VCALENDAR