BEGIN:VCALENDAR
VERSION:2.0
PRODID:-//StreetWise Georgia Inc - ECPv6.15.11//NONSGML v1.0//EN
CALSCALE:GREGORIAN
METHOD:PUBLISH
X-ORIGINAL-URL:https://streetwisegeorgia.org
X-WR-CALDESC:Events for StreetWise Georgia Inc
REFRESH-INTERVAL;VALUE=DURATION:PT1H
X-Robots-Tag:noindex
X-PUBLISHED-TTL:PT1H
BEGIN:VTIMEZONE
TZID:America/New_York
BEGIN:DAYLIGHT
TZOFFSETFROM:-0500
TZOFFSETTO:-0400
TZNAME:EDT
DTSTART:20220313T070000
END:DAYLIGHT
BEGIN:STANDARD
TZOFFSETFROM:-0400
TZOFFSETTO:-0500
TZNAME:EST
DTSTART:20221106T060000
END:STANDARD
BEGIN:DAYLIGHT
TZOFFSETFROM:-0500
TZOFFSETTO:-0400
TZNAME:EDT
DTSTART:20230312T070000
END:DAYLIGHT
BEGIN:STANDARD
TZOFFSETFROM:-0400
TZOFFSETTO:-0500
TZNAME:EST
DTSTART:20231105T060000
END:STANDARD
BEGIN:DAYLIGHT
TZOFFSETFROM:-0500
TZOFFSETTO:-0400
TZNAME:EDT
DTSTART:20240310T070000
END:DAYLIGHT
BEGIN:STANDARD
TZOFFSETFROM:-0400
TZOFFSETTO:-0500
TZNAME:EST
DTSTART:20241103T060000
END:STANDARD
END:VTIMEZONE
BEGIN:VEVENT
DTSTART;TZID=America/New_York:20230113T090000
DTEND;TZID=America/New_York:20230113T113000
DTSTAMP:20260423T031422
CREATED:20221206T215534Z
LAST-MODIFIED:20221207T194914Z
UID:26999-1673600400-1673609400@streetwisegeorgia.org
SUMMARY:Mobile Food Pantry Friday Prep 1-13-2023
DESCRIPTION:StreetWise Mobile Food Pantry will be on Saturday\, January 14th\, and we pre-pack the food boxes on Friday\, January 13th\, the day before. \nVolunteers will arrive by 9:00 A.M. at the StreetWise facility.  The boxes are packed via an assembly line\, and we will fill approximately 300+ boxes with produce\, meat\, bread\, and dry goods.  All helping hands we will be done by 11:30 A.M.  It takes a team\, and we can guarantee smiles and laughter all around! \nTo volunteer for this event please click the link below: \nStreetWise Volunteer Mobile Food Pantry Friday Prep 1-13-2023\nThis Food Pantry is an affiliate of the Atlanta Community Food Bank and is posting volunteer opportunities as part of a collaborative partnership between Hands On Atlanta and The Atlanta Community Food Bank. Through this partnership\, Hands On Atlanta is providing training and support to select affiliate food pantries to increase their capacity to recruit\, manage and retain volunteers\, with the ultimate goal of strengthening services provided to families and individuals at risk of hunger.
URL:https://streetwisegeorgia.org/event/mobile-food-pantry-friday-prep-1-13-2023/
END:VEVENT
BEGIN:VEVENT
DTSTART;TZID=America/New_York:20230114T090000
DTEND;TZID=America/New_York:20230114T123000
DTSTAMP:20260423T031422
CREATED:20181217T142627Z
LAST-MODIFIED:20230104T204214Z
UID:8277-1673686800-1673699400@streetwisegeorgia.org
SUMMARY:Mobile Food Pantry 1-14-2023
DESCRIPTION:Volunteer Opportunity! StreetWise Mobile Food Pantry!\nBe a part of the helping hands to those families in need!  StreetWise Georgia & The Atlanta Community Food Bank partner every month to provide pre-registered families with approximately 100 lbs. of food.  Registered guests never have to get out of their vehicles. Guests drive through our parking lot\, where StreetWise Ambassadors & Volunteers load their cars with boxes of food. \nStreetWise has now partnered with Hands On Atlanta Nonprofit as a volunteer resource.  Registration link for StreetWise January Mobile Food Pantry\, click on this link. \n\n\n \nEasy one click Donating financially button and Thank You! for being part of the StreetWise Georgia mission to help struggling families get back on their feet and functioning independently. \n  \n  \n 
URL:https://streetwisegeorgia.org/event/mobile-food-pantry-1-14-2023/
CATEGORIES:Mobile Food Pantry
ATTACH;FMTTYPE=image/png:https://streetwisegeorgia.org/wp-content/uploads/2018/12/January-MFP-2019-FB-event-498x263.png
END:VEVENT
END:VCALENDAR