BEGIN:VCALENDAR
VERSION:2.0
PRODID:-//StreetWise Georgia Inc - ECPv6.15.11//NONSGML v1.0//EN
CALSCALE:GREGORIAN
METHOD:PUBLISH
X-WR-CALNAME:StreetWise Georgia Inc
X-ORIGINAL-URL:https://streetwisegeorgia.org
X-WR-CALDESC:Events for StreetWise Georgia Inc
REFRESH-INTERVAL;VALUE=DURATION:PT1H
X-Robots-Tag:noindex
X-PUBLISHED-TTL:PT1H
BEGIN:VTIMEZONE
TZID:America/New_York
BEGIN:DAYLIGHT
TZOFFSETFROM:-0500
TZOFFSETTO:-0400
TZNAME:EDT
DTSTART:20210314T070000
END:DAYLIGHT
BEGIN:STANDARD
TZOFFSETFROM:-0400
TZOFFSETTO:-0500
TZNAME:EST
DTSTART:20211107T060000
END:STANDARD
BEGIN:DAYLIGHT
TZOFFSETFROM:-0500
TZOFFSETTO:-0400
TZNAME:EDT
DTSTART:20220313T070000
END:DAYLIGHT
BEGIN:STANDARD
TZOFFSETFROM:-0400
TZOFFSETTO:-0500
TZNAME:EST
DTSTART:20221106T060000
END:STANDARD
BEGIN:DAYLIGHT
TZOFFSETFROM:-0500
TZOFFSETTO:-0400
TZNAME:EDT
DTSTART:20230312T070000
END:DAYLIGHT
BEGIN:STANDARD
TZOFFSETFROM:-0400
TZOFFSETTO:-0500
TZNAME:EST
DTSTART:20231105T060000
END:STANDARD
END:VTIMEZONE
BEGIN:VEVENT
DTSTART;TZID=America/New_York:20221210T090000
DTEND;TZID=America/New_York:20221210T133000
DTSTAMP:20260423T045039
CREATED:20180809T144303Z
LAST-MODIFIED:20221207T194715Z
UID:8139-1670662800-1670679000@streetwisegeorgia.org
SUMMARY:Mobile Food Pantry 12-10-2022 moved to 12-17-2022
DESCRIPTION:Mobile Food Pantry Saturday\, 12-10-2022 moved to Saturday\, 12-17-2022 \n \nWhen You donate to StreetWise Georgia\,\nyou are making a difference for families in need. Make an impact TODAY! \n\n 
URL:https://streetwisegeorgia.org/event/mobile-food-pantry-12-10-2022-moved-to-12-17-2022/
CATEGORIES:Mobile Food Pantry
ATTACH;FMTTYPE=image/png:https://streetwisegeorgia.org/wp-content/uploads/2018/08/Mobile-Food-Pantry-December.png
END:VEVENT
END:VCALENDAR