BEGIN:VCALENDAR
VERSION:2.0
PRODID:-//StreetWise Georgia Inc - ECPv6.15.11//NONSGML v1.0//EN
CALSCALE:GREGORIAN
METHOD:PUBLISH
X-ORIGINAL-URL:https://streetwisegeorgia.org
X-WR-CALDESC:Events for StreetWise Georgia Inc
REFRESH-INTERVAL;VALUE=DURATION:PT1H
X-Robots-Tag:noindex
X-PUBLISHED-TTL:PT1H
BEGIN:VTIMEZONE
TZID:America/New_York
BEGIN:DAYLIGHT
TZOFFSETFROM:-0500
TZOFFSETTO:-0400
TZNAME:EDT
DTSTART:20210314T070000
END:DAYLIGHT
BEGIN:STANDARD
TZOFFSETFROM:-0400
TZOFFSETTO:-0500
TZNAME:EST
DTSTART:20211107T060000
END:STANDARD
BEGIN:DAYLIGHT
TZOFFSETFROM:-0500
TZOFFSETTO:-0400
TZNAME:EDT
DTSTART:20220313T070000
END:DAYLIGHT
BEGIN:STANDARD
TZOFFSETFROM:-0400
TZOFFSETTO:-0500
TZNAME:EST
DTSTART:20221106T060000
END:STANDARD
BEGIN:DAYLIGHT
TZOFFSETFROM:-0500
TZOFFSETTO:-0400
TZNAME:EDT
DTSTART:20230312T070000
END:DAYLIGHT
BEGIN:STANDARD
TZOFFSETFROM:-0400
TZOFFSETTO:-0500
TZNAME:EST
DTSTART:20231105T060000
END:STANDARD
BEGIN:DAYLIGHT
TZOFFSETFROM:-0500
TZOFFSETTO:-0400
TZNAME:EDT
DTSTART:20240310T070000
END:DAYLIGHT
BEGIN:STANDARD
TZOFFSETFROM:-0400
TZOFFSETTO:-0500
TZNAME:EST
DTSTART:20241103T060000
END:STANDARD
END:VTIMEZONE
BEGIN:VEVENT
DTSTART;TZID=America/New_York:20231118T090000
DTEND;TZID=America/New_York:20231118T130000
DTSTAMP:20260421T110433
CREATED:20211014T205053Z
LAST-MODIFIED:20230501T211924Z
UID:8155-1700298000-1700312400@streetwisegeorgia.org
SUMMARY:StreetWise Thanksgiving Gathering & Mobile Food Pantry
DESCRIPTION:StreetWise Thanksgiving Gathering & Mobile Food Pantry  Saturday\, November 18th\, 2023\nStreetWise Georgia & The Atlanta Community Food Bank partner every month to provide pre-registered families with approximately 100 lbs. of food.  Registered guests never have to get out of their vehicles. Guests drive through our parking lot where StreetWise Volunteers load their cars with boxes of food. \nVolunteers can expect to be outside during most of the event. You will help direct and check-in registered clients\, sort food\, prepare food boxes\, and load boxes into client vehicles\, and if you are called to be a Prayer Warrior\, inquire about being on the Prayer Team. Volunteers arrive by 8:45 A.M.\, and we will set up for the Mobile Food Pantry\, then at 9:30 A.M. begin to serve over 270 registered families. With everyone pitching in\, clean-up is a snap\, and Volunteers are done by 1:00 P.M. You must have your own transportation. Volunteers under the age of 18 without transportation should not be dropped off. \nPlease wear comfortable clothing\, tennis shoes preferred (no open-toed shoes)\, no earbuds or headphones for safety reasons\, and leave personal belongings in the car or at home. We serve rain or shine\, heat or cold\, and sometimes in the snow! Check the weather forecast and dress appropriately to be outside. \nCOVID-19 protocols: **Please do not come if you are sick\, or not feeling well** We are committed to keeping our facilities clean and safe for our Clients and Volunteers.  You will need to decline the volunteer invitation. \nFor your safety\, we ask Volunteers to wear a mask. Try to bring your own\, since our supply is limited and not guaranteed.  If you or your group cannot obtain personal masks\, please contact us ahead of time to accommodate those needs. Clients will not get out of their car\, and there should be no physical contact with them. \n*If you are a High School or College Student that needs volunteer hours\, we can give you documentation that you volunteered at StreetWise 501(c)(3) Nonprofit. \n \n  \n  \nThank you for Volunteering at StreetWise Georgia and being the helping hands to those in need! Our volunteers are a critical part of what we do.
URL:https://streetwisegeorgia.org/event/streetwise-thanksgiving-gathering/
CATEGORIES:Events,Mobile Food Pantry,News,Thanksgiving,Volunteer
ATTACH;FMTTYPE=image/png:https://streetwisegeorgia.org/wp-content/uploads/2018/08/Thanksgiving-400x400fx.png
END:VEVENT
BEGIN:VEVENT
DTSTART;TZID=America/New_York:20221119T090000
DTEND;TZID=America/New_York:20221119T133000
DTSTAMP:20260421T110433
CREATED:20211221T204943Z
LAST-MODIFIED:20211221T204943Z
UID:26853-1668848400-1668864600@streetwisegeorgia.org
SUMMARY:Mobile Food Pantry 11-12-2022 moved to 11-19-22
DESCRIPTION:StreetWise Georgia Thanksgiving Gathering will be joined with our November Mobile Food Pantry!\nStreetWise Georgia & The Atlanta Community Food Bank partner to provide pre-registered families with approximately 170 lbs. of food. Registered guests never have to get out of their vehicles. Guests drive through our parking lot and StreetWise Ambassadors & Volunteers load their vehicles with boxes of food.  Volunteers arrive by 9:00 AM and are assigned to their stations.  Clean-up is a snap with all helping hands. \nStreetWise Mobile Food Pantry is on the second Saturday of each month. Please check the StreetWise Calendar for more volunteer opportunities. Registration for Events is open approximately 2 weeks prior\, and you can register for an event or want to know more email us at volunteer@streetwisegeorgia.org. \nWe would be happy to hear from you! Please contact StreetWise Georgia via email at volunteer@streetwisegeorgia.org.\nInterested in Donating financially and can’t Volunteer\, or want more information? Do you know of a company or organization that would like to volunteer and/or donate?\n \nEasy one-click Donating financially button\, and Thank You! for being part of the StreetWise Georgia mission to help struggling families get back on their feet and functioning independently.
URL:https://streetwisegeorgia.org/event/mobile-food-pantry-11-12-2022-moved-to-11-19-22/
CATEGORIES:Events,Mobile Food Pantry,Thanksgiving
ATTACH;FMTTYPE=image/png:https://streetwisegeorgia.org/wp-content/uploads/2018/08/November-1.png
END:VEVENT
END:VCALENDAR