BEGIN:VCALENDAR
VERSION:2.0
PRODID:-//StreetWise Georgia Inc - ECPv6.15.11//NONSGML v1.0//EN
CALSCALE:GREGORIAN
METHOD:PUBLISH
X-ORIGINAL-URL:https://streetwisegeorgia.org
X-WR-CALDESC:Events for StreetWise Georgia Inc
REFRESH-INTERVAL;VALUE=DURATION:PT1H
X-Robots-Tag:noindex
X-PUBLISHED-TTL:PT1H
BEGIN:VTIMEZONE
TZID:America/New_York
BEGIN:DAYLIGHT
TZOFFSETFROM:-0500
TZOFFSETTO:-0400
TZNAME:EDT
DTSTART:20210314T070000
END:DAYLIGHT
BEGIN:STANDARD
TZOFFSETFROM:-0400
TZOFFSETTO:-0500
TZNAME:EST
DTSTART:20211107T060000
END:STANDARD
BEGIN:DAYLIGHT
TZOFFSETFROM:-0500
TZOFFSETTO:-0400
TZNAME:EDT
DTSTART:20220313T070000
END:DAYLIGHT
BEGIN:STANDARD
TZOFFSETFROM:-0400
TZOFFSETTO:-0500
TZNAME:EST
DTSTART:20221106T060000
END:STANDARD
BEGIN:DAYLIGHT
TZOFFSETFROM:-0500
TZOFFSETTO:-0400
TZNAME:EDT
DTSTART:20230312T070000
END:DAYLIGHT
BEGIN:STANDARD
TZOFFSETFROM:-0400
TZOFFSETTO:-0500
TZNAME:EST
DTSTART:20231105T060000
END:STANDARD
BEGIN:DAYLIGHT
TZOFFSETFROM:-0500
TZOFFSETTO:-0400
TZNAME:EDT
DTSTART:20240310T070000
END:DAYLIGHT
BEGIN:STANDARD
TZOFFSETFROM:-0400
TZOFFSETTO:-0500
TZNAME:EST
DTSTART:20241103T060000
END:STANDARD
END:VTIMEZONE
BEGIN:VEVENT
DTSTART;TZID=America/New_York:20230409T000000
DTEND;TZID=America/New_York:20230409T233000
DTSTAMP:20260421T062546
CREATED:20200411T211419Z
LAST-MODIFIED:20230209T155342Z
UID:7750-1680998400-1681083000@streetwisegeorgia.org
SUMMARY:Happy Easter!
DESCRIPTION:Happy Easter Sunday! \n“He is Risen” means that there is more to be written yet in the story of our lives. We do not have to live alone and afraid anymore. God is with us. He will come and live with us. \nFrom all of us at StreetWise we wish you & your family a very Blessed Easter! \nAfter the Sabbath\, at dawn on the first day of the week\, Mary Magdalene and the other Mary went to look at the tomb. \n2 There was a violent earthquake\, for an angel of the Lord came down from heaven and\, going to the tomb\, rolled back the stone and sat on it. 3 His appearance was like lightning\, and his clothes were white as snow. 4 The guards were so afraid of him that they shook and became like dead men. \n5 The angel said to the women\, “Do not be afraid\, for I know that you are looking for Jesus\, who was crucified. 6 He is not here; he has risen\, just as he said. Come and see the place where he lay. 7 Then go quickly and tell his disciples: ‘He has risen from the dead and is going ahead of you into Galilee. There you will see him.’ Now I have told you.” \n8 So the women hurried away from the tomb\, afraid yet filled with joy\, and ran to tell his disciples. 9 Suddenly Jesus met them. “Greetings\,” he said. They came to him\, clasped his feet and worshiped him. 10 Then Jesus said to them\, “Do not be afraid. Go and tell my brothers to go to Galilee; there they will see me.” \nMatthew 28:5-8 \n 
URL:https://streetwisegeorgia.org/event/happy-easter/
CATEGORIES:Easter Event,Events,StreetWise Georgia
ATTACH;FMTTYPE=image/jpeg:https://streetwisegeorgia.org/wp-content/uploads/2020/04/He-is-Risen.jpg
END:VEVENT
BEGIN:VEVENT
DTSTART;TZID=America/New_York:20220416T090000
DTEND;TZID=America/New_York:20220416T140000
DTSTAMP:20260421T062546
CREATED:20220322T191214Z
LAST-MODIFIED:20220322T223559Z
UID:7807-1650099600-1650117600@streetwisegeorgia.org
SUMMARY:StreetWise Easter Celebration & Mobile Food Pantry!
DESCRIPTION:StreetWise Easter Celebration Is Hopping Soon!\nVolunteer Opportunity! Our Easter Celebration & Mobile Food Pantry will be Saturday\, April 16th.   \nOur Easter Celebration is one of our biggest events of the year! We will serve 300 registered families with a Take Home To Cook Easter Meal with all the fixings. And every child attending this special event receives an Easter Basket filled with goodies and surprises. Families will also enjoy hearing about the true meaning of Easter. \nVolunteers can expect to be outside during most of the event. You will help sort food\, prepare food boxes\, and load the food boxes into client vehicles. Also\, help registered guests check-in\, direct traffic\, hand out StreetWise flyers\, Easter Baskets\, Blessing Bags\, and so much more. We can find a place for you! \nVolunteers will arrive by 8:45 A.M. at StreetWise facility. We will set up for the Easter Celebration/Mobile Food Pantry and then at 9:30 A.M. begin to serve the registered Clients. Registered guests never have to get out of their vehicles. Guests drive through our parking lot\, where StreetWise Volunteers load their cars. With everyone pitching in\, clean-up is a snap\, and Volunteers are done by 1:30 P.M. \nStreetWise has now partnered with Hands On Atlanta Nonprofit as a volunteer resource. \nClick this registration link to Volunteer at StreetWise Easter Celebration & Mobile Food Pantry! \n*If you are a High School or College Student that needs volunteer hours\, we can give you documentation that you volunteered at StreetWise 501(c)(3) Nonprofit. \nThis Food Pantry is an affiliate of the Atlanta Community Food Bank and is posting volunteer opportunities as part of a collaborative partnership between Hands On Atlanta and The Atlanta Community Food Bank. Through this partnership\, Hands On Atlanta is providing training and support to select affiliate food pantries to increase their capacity to recruit\, manage and retain volunteers\, with the ultimate goal of strengthening services provided to families and individuals at risk of hunger. \nCheck out our Calendar of Events for more information about what is happening at StreetWise! \n  \nCan’t Volunteer and still want to be a part of the helping hands to those in need? Easy one-click Donate Today button\, and we will route you to our PayPal page.  Thank You! for being part of the StreetWise Georgia mission to help struggling families get back on their feet and function independently.\nDo you know of a company or organization that would like to become a Partner or Sponsor?\nWe would be happy to hear from you! For more information\, please contact StreetWise Georgia via email at volunteer@streetwisegeorgia.org.\n\n \n 
URL:https://streetwisegeorgia.org/event/streetwise-easter-celebration-mobile-food-pantry/
CATEGORIES:Donations,Easter Event,Events,Mobile Food Pantry,StreetWise Georgia,Volunteer
ATTACH;FMTTYPE=image/jpeg:https://streetwisegeorgia.org/wp-content/uploads/2018/03/God-gave-us-Easter-1.jpg
END:VEVENT
BEGIN:VEVENT
DTSTART;TZID=America/New_York:20220308T090000
DTEND;TZID=America/New_York:20220416T133000
DTSTAMP:20260421T062546
CREATED:20220304T162335Z
LAST-MODIFIED:20220310T212219Z
UID:28616-1646730000-1650115800@streetwisegeorgia.org
SUMMARY:StreetWise Easter Celebration Fund!
DESCRIPTION:Support Our Special Easter Fund! \nDear Friend\,  \nWe hope you are having a wonderful Easter season! \nEach year StreetWise celebrates in a big way two extraordinary holidays\, Christmas & Easter. \nWe are very excited that this year we will be serving over 400 families at our Easter Celebration! \nEvery family will receive a delicious Easter Take-Home-To Cook Meal\, and all kids attending our Easter Celebration will receive an Easter Basket or Teen Bag filled with goodies\, The Little Golden Book “The Story of Easter”\, and spiritual materials to show them that God loves them & so do we! \nWe cannot do this without YOU.  To reach our goal of $30\,000 we need your generous support!! \nIt’s through your contributions that we’re able to carry on important work both spiritually and in our community. You’ll find that our Online Giving is a secure\, fast and easy to use. Please join us in our Easter Celebration and our mission to help struggling families in need.  It is just one simple click! \n  \n \n  \n  \n\n\nFor Easy Donating to StreetWise Easter Celebration\, click on the Easter Basket!\nAll of us at StreetWise Georgia wish you & your families Easter Blessings. \nWe also invite you to attend our event\, click here and email us to let us know you are coming!    Also\, check out our Easter & Christmas Photo Gallery!!
URL:https://streetwisegeorgia.org/event/streetwise-easter-celebration-fund/
CATEGORIES:Donations,Easter Event,Events,Mobile Food Pantry,StreetWise Georgia,Volunteer
ATTACH;FMTTYPE=image/jpeg:https://streetwisegeorgia.org/wp-content/uploads/2021/04/IMG_5340-scaled.jpg
END:VEVENT
END:VCALENDAR