BEGIN:VCALENDAR
VERSION:2.0
PRODID:-//StreetWise Georgia Inc - ECPv6.15.11//NONSGML v1.0//EN
CALSCALE:GREGORIAN
METHOD:PUBLISH
X-WR-CALNAME:StreetWise Georgia Inc
X-ORIGINAL-URL:https://streetwisegeorgia.org
X-WR-CALDESC:Events for StreetWise Georgia Inc
REFRESH-INTERVAL;VALUE=DURATION:PT1H
X-Robots-Tag:noindex
X-PUBLISHED-TTL:PT1H
BEGIN:VTIMEZONE
TZID:America/New_York
BEGIN:DAYLIGHT
TZOFFSETFROM:-0500
TZOFFSETTO:-0400
TZNAME:EDT
DTSTART:20220313T070000
END:DAYLIGHT
BEGIN:STANDARD
TZOFFSETFROM:-0400
TZOFFSETTO:-0500
TZNAME:EST
DTSTART:20221106T060000
END:STANDARD
BEGIN:DAYLIGHT
TZOFFSETFROM:-0500
TZOFFSETTO:-0400
TZNAME:EDT
DTSTART:20230312T070000
END:DAYLIGHT
BEGIN:STANDARD
TZOFFSETFROM:-0400
TZOFFSETTO:-0500
TZNAME:EST
DTSTART:20231105T060000
END:STANDARD
BEGIN:DAYLIGHT
TZOFFSETFROM:-0500
TZOFFSETTO:-0400
TZNAME:EDT
DTSTART:20240310T070000
END:DAYLIGHT
BEGIN:STANDARD
TZOFFSETFROM:-0400
TZOFFSETTO:-0500
TZNAME:EST
DTSTART:20241103T060000
END:STANDARD
END:VTIMEZONE
BEGIN:VEVENT
DTSTART;TZID=America/New_York:20230409T000000
DTEND;TZID=America/New_York:20230409T233000
DTSTAMP:20260425T110947
CREATED:20200411T211419Z
LAST-MODIFIED:20230209T155342Z
UID:7750-1680998400-1681083000@streetwisegeorgia.org
SUMMARY:Happy Easter!
DESCRIPTION:Happy Easter Sunday! \n“He is Risen” means that there is more to be written yet in the story of our lives. We do not have to live alone and afraid anymore. God is with us. He will come and live with us. \nFrom all of us at StreetWise we wish you & your family a very Blessed Easter! \nAfter the Sabbath\, at dawn on the first day of the week\, Mary Magdalene and the other Mary went to look at the tomb. \n2 There was a violent earthquake\, for an angel of the Lord came down from heaven and\, going to the tomb\, rolled back the stone and sat on it. 3 His appearance was like lightning\, and his clothes were white as snow. 4 The guards were so afraid of him that they shook and became like dead men. \n5 The angel said to the women\, “Do not be afraid\, for I know that you are looking for Jesus\, who was crucified. 6 He is not here; he has risen\, just as he said. Come and see the place where he lay. 7 Then go quickly and tell his disciples: ‘He has risen from the dead and is going ahead of you into Galilee. There you will see him.’ Now I have told you.” \n8 So the women hurried away from the tomb\, afraid yet filled with joy\, and ran to tell his disciples. 9 Suddenly Jesus met them. “Greetings\,” he said. They came to him\, clasped his feet and worshiped him. 10 Then Jesus said to them\, “Do not be afraid. Go and tell my brothers to go to Galilee; there they will see me.” \nMatthew 28:5-8 \n 
URL:https://streetwisegeorgia.org/event/happy-easter/
CATEGORIES:Easter Event,Events,StreetWise Georgia
ATTACH;FMTTYPE=image/jpeg:https://streetwisegeorgia.org/wp-content/uploads/2020/04/He-is-Risen.jpg
END:VEVENT
END:VCALENDAR